BEGIN:VCALENDAR
VERSION:2.0
X-WR-CALNAME:www.indybay.org
PRODID:-//indybay/ical// v1.0//EN
BEGIN:VEVENT
UID:Indybay-18670863
SEQUENCE:18748133
CREATED:20110201T061000Z
DESCRIPTION:7:30pm Thursday 2/3 at Resource Center for Nonviolence, 515 
 Broadway,\nSanta Cruz, CA\nNonviolent Revolution in Tunisia and Egypt with 
 Dr. Stephen Zunes\nThe successful unarmed resistance in Tunisia and the 
 ongoing struggle\nin Egypt has not only once again demonstrated the power 
 of strategic\nnonviolent action, but is bringing long-overdue democratic 
 change to\nthe Arab world.   These popular uprisings have enormous 
 ramifications\nfor US-backed dictatorships and other autocratic regimes, US 
 policy in\nthe Middle East, and the future of the entire region. Stephen 
 Zunes,\npolitics professor and of Middle Eastern Studies at the University 
 of\nSan Francisco and a leading authority on Middle Eastern and 
 North\nAfrican politics, nonviolent action, and U.S. foreign policy, 
 will\nshare his thoughts on these dramatic developments and lead 
 the\ndiscussion. For more information, www.rcnv.org or 831-423-1626. \n 
 https://www.indybay.org/newsitems/2011/01/31/18670863.php
SUMMARY:Dr. Stephen Zunes on Egypt & Tunisia
LOCATION:Resource Center for Nonviolence, 515 Broadway,\nSanta Cruz, CA
URL:https://www.indybay.org/newsitems/2011/01/31/18670863.php
DTSTART:20110204T033000Z
DTEND:20110204T053000Z
END:VEVENT
END:VCALENDAR
