BEGIN:VCALENDAR
VERSION:2.0
X-WR-CALNAME:www.indybay.org
PRODID:-//indybay/ical// v1.0//EN
BEGIN:VEVENT
UID:Indybay-18670193
SEQUENCE:18747131
CREATED:20110125T184400Z
DESCRIPTION:On May 1st 2010 a couple members of a racist group got beaten up in San 
 Francisco. Without a doubt, they brought it upon themselves. (Background: 
 http://www.indybay.org/newsitems/2010/05/05/18647115.php ) \n\nNow these 
 haters have gone to court and lied about our comrades. They accuse the 
 wrong people. They try to use the court for revenge. They would do the same 
 to any of us. \n\nOne of the people they accuse lives out of state. She 
 must stay in the area to await trial. Her life interrupted by lies told to 
 a judge. \n\nLet’s show our solidarity and appreciation to the falsely 
 accused. \n\n\n https://www.indybay.org/newsitems/2011/01/25/18670193.php
SUMMARY:Benefit for antiracist activist facing bogus charges!
LOCATION:Radio Bar\n435 13th St. (at Broadway) \nOakland, CA
URL:https://www.indybay.org/newsitems/2011/01/25/18670193.php
DTSTART:20110131T000000Z
DTEND:20110131T040000Z
END:VEVENT
END:VCALENDAR
