BEGIN:VCALENDAR
VERSION:2.0
X-WR-CALNAME:www.indybay.org
PRODID:-//indybay/ical// v1.0//EN
BEGIN:VEVENT
UID:Indybay-18669638
SEQUENCE:18746382
CREATED:20110120T072600Z
DESCRIPTION:In front of the Solano County District Attorney's Office and Service and 
 Justice Center there will be a community rally calling on the District 
 Attorney to conduct a full investigation into the fatal shooting of Guy 
 Jarreau jr. by the Vallejo Police Department in December of 2010. The event 
 will be open to the press, and there will be knowledgeable and concerned 
 community members available to speak about the case and the call for 
 Justice for Guy Jarreau, jr., a man who worked for peace in the community 
 and was an active student at Napa Valley College, working with the Black 
 Student Union and at the Child Daycare center.\n\nA central demand of the 
 community is that all evidence, including video taped footage of the nights 
 events documenting the incident of Guy’s killing, be made available for a 
 full and comprehensive investigation by the District Attorney or the 
 California Attorney General. At this time video tape evidence from the 
 incident is being withheld by the Vallejo Police Department, and there are 
 contradictory accounts between the police who say Guy had pointed a weapon 
 at an officer, versus eye witness testimony stating that Guy kept his 
 weapon in his belt and had only a green plastic cup in his hand.\n\nWe, the 
 concerned residents of the community and our fellow people, are demanding 
 that justice be done by exposing the truth of what occurred that fatal 
 night in December on Sonoma Blvd. All evidence from video taped recordings 
 as well as eye witness testimony must be considered in a full investigation 
 by the District Attorney or the California Attorney General. If the police 
 department has done their job according to the law, then they have nothing 
 to hide by releasing the tape for use in a full investigation by the 
 DA.\n\nWe further ask that the paramedics who arrived at the seen come 
 forward with their statements.\nWe ask for the police dispatch 
 recordings.\nWe ask for any witnesses to issue statements.\nWe ask that 
 Vallejo Police issue their officers with ear-bud bluetooth video 
 cameras.\nWe ask for a Citizen review panel.\n\nEndorsed by,\nGod 
 First\nBlack Student Union, and UMOJA, of Napa Valley College\nStudents for 
 a Democratic Society of Napa Valley College\nPeace and Freedom Party of 
 Solano County\nOscar Grant Committee \n 
 https://www.indybay.org/newsitems/2011/01/19/18669638.php
SUMMARY:Justice for Guy Jarreau- Press Conference
LOCATION:321 Tuolumne Street , Vallejo , Solano County District Attorney's Office
URL:https://www.indybay.org/newsitems/2011/01/19/18669638.php
DTSTART:20110128T210000Z
DTEND:20110128T230000Z
END:VEVENT
END:VCALENDAR
