BEGIN:VCALENDAR
VERSION:2.0
X-WR-CALNAME:www.indybay.org
PRODID:-//indybay/ical// v1.0//EN
BEGIN:VEVENT
UID:Indybay-18669624
SEQUENCE:18746365
CREATED:20110120T055800Z
DESCRIPTION:Two years after the Israeli army laid siege to the Balata refugee camp and 
 invaded the Jenin refugee camp in the spring of 2002, a group of young 
 Israeli former soldiers and officers held a photo exhibition in Tel Aviv. 
 Through the exhibition, entitled "Breaking the Silence," the former 
 soldiers confessed to acts of aggression during their duty in the Occupied 
 Territories, as members of what is called "the most moral army in the 
 world." Their testimonies portray how the young soldiers positioned with 
 absolute authority lose their sense of humanity, ethics and morality to 
 become increasingly brutal to Palestinians in the course of service.  
 Seeking to regain their own humanity and hoping to bring awareness of 
 Israeli society to the reality of the Occupation, they had decided to break 
 the silence and speak out.  The film illustrates the psychology of the 
 soldiers of the Occupying power while it depicts suffering inflicted upon 
 the Palestinian people by Israeli soldiers' mindless acts of 
 aggression.\n\nDirector Toshikuni Doi has been covering Israel/Palestine 
 for over twenty years. This film is his most recent work of four film 
 series "Unheard Voices" which was crafted from several hundred hours of 
 footage in Israel/Palestine.  Although the film "Breaking the Silence" won 
 several awards and recognition in Japan this is the first film tour outside 
 of Japan.  After the film shows in New York he will visit Bay Area to 
 attend this show. \n\nSponsored by the BFUU Social Justice Ctee as part of 
 the Conscientious Projector Film Series \nDonations appreciated. No one 
 turned away. \nWheelchair accessible.\n\nPh:510-841-4824\n\nFor occasional 
 email notices of peace/eco/social justice alerts and related events at 
 BFUU, send any email to:\nbfuusjev-subscribe@lists.riseup.net\n\nFor weekly 
 notices of BFUU services etc. go to:\nwww.bfuu.org/signup.html\n\n 
 https://www.indybay.org/newsitems/2011/01/19/18669624.php
SUMMARY:Screening of: Breaking the Silence
LOCATION:Berkeley Fellowship of Unitarian Universalists’ Hall \n1924 Cedar 
 (@Bonita), Berkeley   www.bfuu.org\n
URL:https://www.indybay.org/newsitems/2011/01/19/18669624.php
DTSTART:20110204T030000Z
DTEND:20110204T050000Z
END:VEVENT
END:VCALENDAR
