BEGIN:VCALENDAR
VERSION:2.0
X-WR-CALNAME:www.indybay.org
PRODID:-//indybay/ical// v1.0//EN
BEGIN:VEVENT
UID:Indybay-18669521
SEQUENCE:18746220
CREATED:20110119T014000Z
DESCRIPTION:A wide spectrum of groups, from left to right, will be holding a protest 
 march against the Korea-US Free Trade Agreement on Saturday, January 29, at 
 11:00AM in San Francisco.\n\nYou and other members of your organization are 
 invited.  (Please publicize this event.)\n\nThe march will go from Nancy 
 Pelosi’s mansion in Pacific Heights to the nearby Korean consulate.\n\nWe 
 will assemble 2740 Broadway (Pelosi’s house). We will then march to the 
 Korean Consulate at 3500 Clay St. at Laurel.\n\nRSVP to Ian Fletcher at 
 ian.fletcher@usbic.net for details.\n\nBest Regards,\nIan 
 Fletcher\n\nAuthor, Free Trade Doesn’t Work:\nWhat Should Replace it and 
 Why\nwww.freetradedoesntwork.com\n\nResearch Fellow\nUS Business & Industry 
 Council\nCalifornia Office\n225 Bush St., 16th Fl.\nSan Francisco, CA 94104 
 USA\n415.439.8377  | 415.439.8304 (fax)  |  415.238.8145 (cell) 
 \nwww.usbic.net/ianfletcher\n\n \n\n 
 https://www.indybay.org/newsitems/2011/01/18/18669521.php
SUMMARY:Protest march against the Korea-US Free Trade Agreement
LOCATION:We will assemble 2740 Broadway (Pelosi’s house). We will then march to 
 the Korean Consulate at 3500 Clay St. at Laurel.
URL:https://www.indybay.org/newsitems/2011/01/18/18669521.php
DTSTART:20110129T190000Z
DTEND:20110129T200000Z
END:VEVENT
END:VCALENDAR
