BEGIN:VCALENDAR
VERSION:2.0
X-WR-CALNAME:www.indybay.org
PRODID:-//indybay/ical// v1.0//EN
BEGIN:VEVENT
UID:Indybay-18669484
SEQUENCE:18746176
CREATED:20110118T200700Z
DESCRIPTION:Water is vital to garden health. But, when is enough, enough? Join us to 
 learn earth-friendly ways to water the garden and the most efficient 
 practices for the Bay Area’s Mediterranean climate.\n\nTopics covered 
 include:\nHand watering and automatic sprinklers\nYear-round schedules that 
 conserve\nHand watering—is it efficient?\nEliminating runoff\nSpray vs. 
 Drip irrigation\nWhat kind of plants are you watering?\nSprinkler lifetime 
 and care\n\n\n https://www.indybay.org/newsitems/2011/01/18/18669484.php
SUMMARY:Intro To Organic Gardening: Part III, Garden Design
LOCATION:7th Avenue at Lawton Street\nSan Francisco, California 94122.
URL:https://www.indybay.org/newsitems/2011/01/18/18669484.php
DTSTART:20110416T170000Z
DTEND:20110416T193000Z
END:VEVENT
END:VCALENDAR
