BEGIN:VCALENDAR
VERSION:2.0
X-WR-CALNAME:www.indybay.org
PRODID:-//indybay/ical// v1.0//EN
BEGIN:VEVENT
UID:Indybay-18669482
SEQUENCE:18746170
CREATED:20110118T200200Z
DESCRIPTION:Learn how to grow a healthy and beautiful garden that minimizes the impacts 
 on the environment. From building a healthy soil with compost to selecting 
 beautiful plantings appropriate for the Bay Area’s climate, this workshop 
 will give you the basics to implement sustainable gardening 
 practices.\n\nTopics covered include:\n\nImportance of healthy 
 soil\nOrganic matter\nComposting\nSelecting colorful plants for the Bay 
 Area climate\nClimate appropriate plants\nCalifornia natives\nHow to water 
 without waste\nPreventing nutrient run-off\nIrrigation basics and watering 
 schedules \nNatural pest and weed management \nPesticide alternatives 
 \nNon-toxic weed control\n 
 https://www.indybay.org/newsitems/2011/01/18/18669482.php
SUMMARY:Intro To Organic Gardening: Part I, Garden Design
LOCATION:7th Avenue at Lawton Street\nSan Francisco, California 94122.
URL:https://www.indybay.org/newsitems/2011/01/18/18669482.php
DTSTART:20110402T170000Z
DTEND:20110402T193000Z
END:VEVENT
END:VCALENDAR
