BEGIN:VCALENDAR
VERSION:2.0
X-WR-CALNAME:www.indybay.org
PRODID:-//indybay/ical// v1.0//EN
BEGIN:VEVENT
UID:Indybay-18669355
SEQUENCE:18746014
CREATED:20110117T033400Z
DESCRIPTION:Solve behavioral problems.Enrich your pet's life.\nThis 8-hour class is 
 designed for caregivers of any species of animal–large or small, mammal, 
 bird, reptile or fish. Through a combination of lecture, video, in-class 
 problem-solving exercises, and games, you will learn: the principals of 
 behavior and how all animals learn how to develop strategies for changing 
 animal behavior and preventing future unwanted behavior the basics of 
 positive, effective, and enriching training techniques that can be used 
 with any species of animal\nAfter completing the class, you will be able to 
 see how the universal principals of learning apply to your animals and 
 yourself understand the role animal caregivers have in the development of 
 behaviors in their pets observe more accurately your animal's and your own 
 behavior develop strategies to set up the environment for success 
 understand the basic process of behavior modification understand the pros 
 and cons of various training strategies start using skills to effectively 
 train animals in your homeClass taught by Dr. Susan Brown, DVMRegister 
 \nonline: http://www.rabbit.org/rabbitcenter/index.html\nby phone: (510) 
 970-7575\nSaturday class: $50\nThere will be a free workshop on Sunday for 
 volunteers willing to commit to 60 hours volunteer time at the Rabbit 
 Center. Email elizabeth@rabbit.org for more information.\n 
 https://www.indybay.org/newsitems/2011/01/16/18669355.php
SUMMARY:Using the Art and Science of Behavior to Enrich Your Relationship with Animals
LOCATION:House Rabbit Society\n148 Broadway, Richmond, CA\n(510) 970-7575
URL:https://www.indybay.org/newsitems/2011/01/16/18669355.php
DTSTART:20110205T170000Z
DTEND:20110206T010000Z
END:VEVENT
END:VCALENDAR
