BEGIN:VCALENDAR
VERSION:2.0
X-WR-CALNAME:www.indybay.org
PRODID:-//indybay/ical// v1.0//EN
BEGIN:VEVENT
UID:Indybay-18668984
SEQUENCE:18745501
CREATED:20110112T233600Z
DESCRIPTION:Learn the basics of pruning for fruit trees such as apple, plum, citrus, 
 pear. Teacher Elizabeth Ruiz will demonstrate when, where, and how to cut. 
 Learn about tools and timing. Leave with the ability to do beginning 
 pruning on your fruit tree, as well as detailed handouts. Space is limited 
 -- advance registration online ensures a spot.\n 
 https://www.indybay.org/newsitems/2011/01/12/18668984.php
SUMMARY:Winter Fruit Tree Pruning
LOCATION:EcoHouse \n1305 Hopkins St. (enter via garden entrance on 
 Peralta)\nBerkeley, Ca\n
URL:https://www.indybay.org/newsitems/2011/01/12/18668984.php
DTSTART:20110123T180000Z
DTEND:20110123T210000Z
END:VEVENT
END:VCALENDAR
