BEGIN:VCALENDAR
VERSION:2.0
X-WR-CALNAME:www.indybay.org
PRODID:-//indybay/ical// v1.0//EN
BEGIN:VEVENT
UID:Indybay-18668954
SEQUENCE:18745469
CREATED:20110112T200300Z
DESCRIPTION:Demonstrate support for the ideals of Dr. King and for achieving social 
 change using non-violent methods.\n\nThe Freedom March will start in front 
 of the Dr. Martin Luther King, Jr. Library and march through the San Jose 
 State University campus.\n\nSponsored by the Dr. Martin Luther King, Jr. 
 Legacy Committee and the Dr. Martin Luther King, Jr. 
 Library\n\nCo-sponsors: \n• African American Faculty and Staff 
 Association of SJSU \n• African American Hertiage House \n• African 
 American Employees of Intel Corp., Santa Clara Valley Chapter \n• 
 Africana Advisory Board \n• Bijan Bakery \n• Community Arts and History 
 Support \n• SJSU Library Cultural Heritage Center Advisory Board \n• 
 Dr. Martin Luther King Jr. Association \n• Fairmont Hotel, SJ \n• 
 Golfland \n• House of Sankofa \n• Jaliya \n• San Jose Peace and 
 Justice Center \n• Santa Clara County Office of Human Relations \n• 
 SEIU Local 521 Latino Caucus \n• Silicon Valley Arts Council \n\n 
 https://www.indybay.org/newsitems/2011/01/12/18668954.php
SUMMARY:Dr. Martin Luther King, Jr. Freedom March
LOCATION:Starts in front of the Dr. Martin Luther King, Jr. Library\nSan Fernando 
 and Fourth Streets\nSan Jose, CA  95112
URL:https://www.indybay.org/newsitems/2011/01/12/18668954.php
DTSTART:20110205T200000Z
DTEND:20110205T220000Z
END:VEVENT
END:VCALENDAR
