BEGIN:VCALENDAR
VERSION:2.0
X-WR-CALNAME:www.indybay.org
PRODID:-//indybay/ical// v1.0//EN
BEGIN:VEVENT
UID:Indybay-18668883
SEQUENCE:18745389
CREATED:20110112T014000Z
DESCRIPTION:On September 24, the FBI raided seven Chicago and Minneapolis homes of 
 anti-war and international solidarity activists, and the offices of the 
 Minneapolis-St. Paul Anti-War Committee. A total of 14 activists were 
 subpoenaed to appear before a Grand Jury. In addition, activists from 
 Wisconsin, North Carolina, and here in San Jose were questioned by the FBI. 
 All 14 of those who were subpoenaed in September refused to participate in 
 the Grand Jury.\n\nIn December, another 9 anti-war and Palestine solidarity 
 activists in Chicago were subpoenaed to appear before the Grand Jury on 
 January 25, 2011. In addition, three of the activists subpoenaed in 
 September - Tracy Molm, Anh Pham, and Sarah Martin - are facing 
 re-activation of their subpoenas. On January 25th protests are being 
 organized across the country.\n\nThe protest in San Jose will start at the 
 Dr. Martin Luther King, Jr. Library and march through downtown San 
 Jose.\n\nEndorsers (partial list):\nAmerican Muslim Alliance, California 
 Civil Rights Alliance, Code Pink - San Jose, Council on American Islamic 
 Relations (CAIR) - San Francisco Bay Area, Filipino Community Support 
 (FOCUS), Justice for Palestinians, Raging Grannies Action League, Raging 
 Grannies - San Jose, San Jose Peace and Justice Center, South Bay AFL-CIO 
 Labor Council, South Bay Mobilization, Women’s International League for 
 Peace and Freedom - San Jose.\n\nNational campaign: 
 http://www.stopfbi.net/\n 
 https://www.indybay.org/newsitems/2011/01/11/18668883.php
SUMMARY:Protest FBI and Grand Jury Repression!
LOCATION:Assemble at\nDr. Martin Luther King, Jr. Library\nSan Fernando and Fourth 
 Streets\nSan Jose, CA
URL:https://www.indybay.org/newsitems/2011/01/11/18668883.php
DTSTART:20110126T000000Z
DTEND:20110126T020000Z
END:VEVENT
END:VCALENDAR
