BEGIN:VCALENDAR
VERSION:2.0
X-WR-CALNAME:www.indybay.org
PRODID:-//indybay/ical// v1.0//EN
BEGIN:VEVENT
UID:Indybay-18667266
SEQUENCE:18743128
CREATED:20101221T231400Z
DESCRIPTION:Come along on this walking tour of downtown San Francisco which proposes a 
 method whereby the value of community can be restored to the community. In 
 fact, the tour is a survey of some of the social movements which have 
 originated in or moved to San Francisco.\n\nThe walk presents the case for 
 treating nature as a community commons, and securing equal and universal 
 economic, social and environmental interest in nature.\n\nIt's a Xmas Day 
 outing for those interested in seeing what the secular equivalent of Jesus' 
 admonition to "Render unto Caesar that which is Caesar's, and unto God [the 
 community] that which is God's" might look like.\n\nAll proceeds go to your 
 choice of KPFA, Democracy Now! or KALW.\n\nSliding scale $10-50.\nBegins at 
 the cable-car turnaround, Powell at Market Streets\n\nRSVP:  
 info@TheCommonsSF.org  or 415-948-4265\n 
 https://www.indybay.org/newsitems/2010/12/21/18667266.php
SUMMARY:Benefit for Democracy Now and KPFA
LOCATION:Powell at Market Street cable car turnaround
URL:https://www.indybay.org/newsitems/2010/12/21/18667266.php
DTSTART:20101225T210000Z
DTEND:20101225T233000Z
END:VEVENT
END:VCALENDAR
