BEGIN:VCALENDAR
VERSION:2.0
X-WR-CALNAME:www.indybay.org
PRODID:-//indybay/ical// v1.0//EN
BEGIN:VEVENT
UID:Indybay-18666735
SEQUENCE:18742273
CREATED:20101215T214600Z
DESCRIPTION:Join us for a fun, informative, and interactive Climate Action Workshop 
 series. During two sessions, you will: Consider ways to reduce your 
 ecological footprint and make changes in your community; Take action (as 
 much or as little as you choose); Access the wisdom, advice, and 
 collaboration of your community members and receive valuable information 
 and support from the Ecology Center as you make individual and collective 
 changes. By participating in both sessions, you'll be given free membership 
 to the Ecology Center for a year if you have not previously been a member. 
 \n\nDates: Tuesdays, January 18 & 25 (attendance at both sessions is 
 requested). Contact Debra Berliner to sign up. \nTime: 6:30pm - 8:30pm 
 \nLocation: Ecology Center, 2530 San Pablo Ave, near Dwight \nWay, Berkeley 
 \nInfo: 510-548-2220 ext. 240, debra [at] ecologycenter.org\n\nWe hope you 
 can join us! \n https://www.indybay.org/newsitems/2010/12/15/18666735.php
SUMMARY:Free 2-session Climate Action Workshop
LOCATION:Ecology Center \n2530 San Pablo Ave, near Dwight Way, Berkeley
URL:https://www.indybay.org/newsitems/2010/12/15/18666735.php
DTSTART:20110126T023000Z
DTEND:20110126T043000Z
END:VEVENT
END:VCALENDAR
