BEGIN:VCALENDAR
VERSION:2.0
X-WR-CALNAME:www.indybay.org
PRODID:-//indybay/ical// v1.0//EN
BEGIN:VEVENT
UID:Indybay-18666646
SEQUENCE:18742168
CREATED:20101215T164600Z
DESCRIPTION:pilates2thepeople@gmail.com\n\nAll levels & bodies WELCOMED! Pilates is 
 great for athletes looking for cross-training to support their usual 
 activities, for people finishing physical therapy who need to mobilize 
 their bodies, and EVERYONE in between!\n\nDonation based, no one turned 
 away for lack of funds \n\nMondays 7:00pm at the Long Haul 3124 Shattuck @ 
 Woolsey, Berkeley \nWednesdays 7:00pm at Rock Paper Scissors 23rd and 
 Telegraph, Oakland\n\n 
 https://www.indybay.org/newsitems/2010/12/15/18666646.php
SUMMARY:East Bay Free Skool Class: Pilates to the People
LOCATION:The Long Haul Infoshop 3124 Shattuck @ Woolsey Berkeley 
URL:https://www.indybay.org/newsitems/2010/12/15/18666646.php
DTSTART:20110208T030000Z
DTEND:20110208T043000Z
END:VEVENT
END:VCALENDAR
