BEGIN:VCALENDAR
VERSION:2.0
X-WR-CALNAME:www.indybay.org
PRODID:-//indybay/ical// v1.0//EN
BEGIN:VEVENT
UID:Indybay-18666013
SEQUENCE:18741348
CREATED:20101208T143600Z
DESCRIPTION:Two locked out Honeywell Metropolis Illinois USW 7-669 workers will be 
 speaking at LaborTech 2010 which will be held in San Francisco. Their plant 
 which processes nuclear material has been kept operating by Honeywell by 
 illegally manipulating the tests required for operators although this is a 
 criminal conspiracy to violate Federal OSHA laws. As a result there have 
 already been toxic releases from this scab plant. Obama is a friends of the 
 Honeywell CEO David Cote.\n\n\nSpecial Guests Honeywell Metropolis, 
 Illinois locked out  USW  7-669 members  Stephen Lech and James Childers  
 At LaborTech Saturday Night Event\n\nToday in Metropolis, Illinois 230 USW 
 7- 669 Honeywell nuclear processing workers have been locked out of their 
 jobs at this plant since June 28. Stephen Lech and James Childers are 
 activists and  leaders of this fight and will speak about the fight for 
 health and safety, their issues  and how working people and the public can 
 defend their fight for justice. The US government and health and safety 
 oversight agencies so far  have allowed the  Honeywell CEO David Cote to 
 manipulate health and safety laws to allow untrained scabs to run the 
 highly dangerous plant. \nAlready there have been accidents and releases of 
 toxins in the 
 environment.\nwww.usw7-669.com\nhttp://www.huffingtonpost.com/mike-elk/honeywell-cheated-on-scab_b_786913.html\nhttp://www.thesouthern.com/news/local/article_75f74a2a-f20e-11df-9a12-001cc4c03286.html\nhttp://www.youtube.com/watch?v=ONzbRYy3SyE\nhttp://www.truth-out.org/explosion-rocks-honeywell-uranium-facility-run-scab-workers63047\n\nLaborTECH 
 2010 Saturday 12/11/2010  7:00 PM Event\nUniversity Of San Francisco 
 McLaren Rm 252\nFor More Information On LaborTech 2010 go 
 to\nwww.labortech.net\n 
 https://www.indybay.org/newsitems/2010/12/08/18666013.php
SUMMARY:Locked Out Honeywell Metropolis, Illinois USW 7-669 Workers To Speak At LaborTech 2010 SF
LOCATION:University Of San Francisco McLaren Rm 252
URL:https://www.indybay.org/newsitems/2010/12/08/18666013.php
DTSTART:20101212T030000Z
DTEND:20101212T040000Z
END:VEVENT
END:VCALENDAR
