BEGIN:VCALENDAR
VERSION:2.0
X-WR-CALNAME:www.indybay.org
PRODID:-//indybay/ical// v1.0//EN
BEGIN:VEVENT
UID:Indybay-18665859
SEQUENCE:18741110
CREATED:20101206T224000Z
DESCRIPTION:Bring the 2010 Golden Gate National Parks Endangered Species Big Year to a 
 close with a short bike ride to observe some of the imperiled plants and 
 animals clinging to survival in San Francisco’s wild northwestern corner. 
 We’ll start off with some tough ones, searching for Humpback Whale, 
 Steller Sea Lion, Southern Sea Otters, and Marbled Murrelet at Lands End. 
 We’ll then ride through the Presidio to discover the San Francisco 
 Lessingia and the strange story of the Gowen Cypress. Our last stop will be 
 at the Crissy Field Wildlife Protection Area, where we’ll check in on the 
 Western Snowy Plover. RSVP Required: RSVP within the trip info: 
 http://wildequity.org/events/3169. Bring food and water. Meet at the Bazaar 
 Cafe, 5927 California Street, San Francisco, CA 94121. Part of the Golden 
 Gate National Parks Endangered Species Big Year, a competitive event to 
 help endangered species recover. \n\nThe Golden Gate National Parks 
 contains more endangered species than any other National Park in 
 continental North America. This is certainly cause for celebration, but 
 also for concern. Take part in the 2010 GGNP Endangered Species Big Year 
 and get to know these species while helping them recover. It is free. For 
 more information go to http://wildequity.org and see the calendar for 
 upcoming Big Year trips and activities.\n 
 https://www.indybay.org/newsitems/2010/12/06/18665859.php
SUMMARY:Endangered Species Big Year Bike Tour
LOCATION:Meet at the Bazaar Cafe, 5927 California St., San Francisco, CA 94121. See 
 event directions at http://wildequity.org/events/3169.
URL:https://www.indybay.org/newsitems/2010/12/06/18665859.php
DTSTART:20101219T173000Z
DTEND:20101219T203000Z
END:VEVENT
END:VCALENDAR
