BEGIN:VCALENDAR
VERSION:2.0
X-WR-CALNAME:www.indybay.org
PRODID:-//indybay/ical// v1.0//EN
BEGIN:VEVENT
UID:Indybay-18665743
SEQUENCE:18740976
CREATED:20101206T054600Z
DESCRIPTION:Their also issue of building on all dump, next Home Depot already on the 
 dump , it is also right next to the bay\n\nNO TARGET from 
 http://www.mpjc.org/\nSan Rafael City Council\nJoin the KEEP IT LOCAL SAN 
 RAFAEL coalition:\nIn opposition to the proposed Target store in East San 
 Rafael:\nSignificant Traffic Congestion (CO2):\nThe resulting identified 
 traffic jams and clogged arteries for the Canal Neighborhood is a 
 significant, unavoidable impact for which there is NO mitigation 
 available.\nSupport Local, community oriented businesses:\nWhy did we just 
 invest Tens of Millions of Dollars to revitalize the Downtown Business 
 District? To throw that all away for a Target? San Rafael went through a 
 couple of lengthy and successful community "visions" that created a vibrant 
 downtown and a remodeled Northgate Mall. These are challenging economic 
 times why is he City considering destroying what it took so long to 
 build?\nMore Sales Tax ? –\nDon't be fooled, a large increase in sales 
 tax revenue across the board is highly unlikely, more like a shift from our 
 Local Businesses to Multinational Target that takes profit out of the 
 county and state.\nPromised Jobs –\nBuyer beware, these jobs don't pay a 
 living wage and our tax dollars are likely to be supporting employees of 
 Target as most will be part-time and receiving housing, medical and food 
 assistance. Are these the type of jobs that enable people to live and work 
 in San Rafael?\nNo Community Impact Report:\nThere is a vehicle through 
 which the City could perform the kind of comprehensive study that a 
 projects of this magnitude demands. When this was proposed at the Planning 
 Commission, City Staff quickly dismissed it as not being a requirement. 
 Wow, let's take a project that requires us to sacrifice local business, 
 live with abysmal traffic, amend our general plan, perhaps lose revenue and 
 possibly alienate our neighboring cities and just do the bare minimum. Put 
 up by \nhttp://www.facebook.com/david.quinley\n 
 https://www.indybay.org/newsitems/2010/12/05/18665743.php
SUMMARY:San Rafael: Stop Unneeded Target Being Built on a old Dump
LOCATION:San Rafael City Council Chambers\nCity Hall\n1400 Fifth Ave. 6pm 
 Redevelopment Agency 
 http://www.cityofsanrafael.org/Government/City_Clerk/City_Council_Redevelopment_Agency_Agendas/Redevelopment_Agency_3412.htm?DateTime=634272552000000000&PageMode=View 
 8pm PUBLIC HEARING:\n\nItem 3.\n	\n\nPROJECT: Target Store (125 Shoreline 
 Parkway) – Request for a General Plan Amendment, Zone Change, 
 Environmental and Design Review Permit and Minor Subdivision to allow the 
 Construction of a New, 137,511-sq. ft. Target Store with 553 Surface 
 Parking Spaces and Associated Site and Landscaping Improvements on a 
 19.42+acre site. The Proposed Project would be Located on 15.82+ acres of 
 the Parcel with a Landscape Easement and a Vehicle Storage lot Located on 
 3.60+ acres at its Southwest Corner. The Subject Site is Located Northerly 
 of Shoreline Parkway cul-de-sac within the Shoreline Center Development; 
 APN: 009-320-45; Planned Development (PD) 1726 District; Cal-Pox, Inc., 
 Property Owner; John Dewes of Target, Applicant; File No(s).: ED07-038; 
 GPA07-004; ZC07-002; UP07-018 and S10-003) complete packet\n\nExplanation: 
 See enclosed material. Recommend adoption of resolutions and pass ordinance 
 to print\n\nfor the following:\n\n1. Resolution certifying Addendum to 
 EIR;\n\n2. Resolution adopting CEQA Findings, approval of an Exception to 
 General Plan 2020 Circulation Element Policy C-5 supported by a Statement 
 of Overriding Considerations, and approval of a Mitigation Monitoring and 
 Reporting Program;\n\n3. Resolution adopting a General Plan 
 Amendment;\n\n4. Pass ordinance to print adopting a Rezoning to amend the 
 PD 1726 Zoning District; and\n\n5. Resolution adopting conditional approval 
 of Use Permit, Environmental and Design Review Permit, and Vesting 
 Tentative Parcel Map. 
 http://www.cityofsanrafael.org/Government/City_Clerk/City_Council_Redevelopment_Agency_Agendas/City_Council_3413.htm?DateTime=634272552000000000&PageMode=View
URL:https://www.indybay.org/newsitems/2010/12/05/18665743.php
DTSTART:20101207T020000Z
DTEND:20101207T070000Z
END:VEVENT
END:VCALENDAR
