BEGIN:VCALENDAR
VERSION:2.0
X-WR-CALNAME:www.indybay.org
PRODID:-//indybay/ical// v1.0//EN
BEGIN:VEVENT
UID:Indybay-18665404
SEQUENCE:18740569
CREATED:20101202T020600Z
DESCRIPTION:Community Media Center Marin http://cmcm.tv/node/620 has 1st Wen. 
 6:30-8:30pm Member Mixer, San Rafael (A St. between 2nd and 3rd) St.s ) 
 Open to all put up by \nhttp://twitter.com/davidaquinley\n 
 https://www.indybay.org/newsitems/2010/12/01/18665404.php
SUMMARY:San Rafael: Community Media Center Marins 1st Wen. Member Mixer> Open to all
LOCATION:San Rafael (A St. between 2nd and 3rd) St.s 
URL:https://www.indybay.org/newsitems/2010/12/01/18665404.php
DTSTART:20101202T023000Z
DTEND:20101202T043000Z
END:VEVENT
END:VCALENDAR
