BEGIN:VCALENDAR
VERSION:2.0
X-WR-CALNAME:www.indybay.org
PRODID:-//indybay/ical// v1.0//EN
BEGIN:VEVENT
UID:Indybay-18665327
SEQUENCE:18740447
CREATED:20101130T201400Z
DESCRIPTION:Jericho is a free monthly urban spy game that is a great use of public 
 space! Each team of agents will carry out missions to either eliminate 
 their opponents or deliver "top secret documents". The sneakier a player 
 is, the better!\n\nAll that is needed to play is a Nerf gun, a hat, a 
 healthy imagination, and an uncanny ability to hide in plain 
 sight.\n\nWhile this event isn't expressively political, it offers a fun 
 alternative for folks to use Downtown SF in non-consumer ways. Union Square 
 will not be used as a mega-mall, but our playground!\n\nCheck the link 
 below for more details.\n 
 https://www.indybay.org/newsitems/2010/11/30/18665327.php
SUMMARY:Free urban spy game using public space!
LOCATION:The big spire in Union Square, San Francisco. Look for the man in the red 
 santa hat.
URL:https://www.indybay.org/newsitems/2010/11/30/18665327.php
DTSTART:20101211T210000Z
DTEND:20101211T230000Z
END:VEVENT
END:VCALENDAR
