BEGIN:VCALENDAR
VERSION:2.0
X-WR-CALNAME:www.indybay.org
PRODID:-//indybay/ical// v1.0//EN
BEGIN:VEVENT
UID:Indybay-18663056
SEQUENCE:18737758
CREATED:20101104T065000Z
DESCRIPTION:Thursday, Nov. 11, 4:30 p.m., in front of KPFA and the Pacifica network, 
 1925-1929 Martin Luther King Jr. Way, Berkeley\n\nJoin the Rally to Save 
 Hard Knock, Flashpoints and Full Circle on Thursday, Nov. 11, 4:30 p.m., in 
 front of KPFA and the Pacifica network, 1925-1929 Martin Luther King Jr. 
 Way, Berkeley.   \n\n\nRecent emails are talking about how Hard Knock Radio 
 and Flashpoints, both primetime radio shows on KPFA, and the apprenticeship 
 showcase Full Circle may be on chopping block. Giving credence to these 
 attacks, Weyland Southon, the executive producer of Hard Knock Radio, just 
 accepted a severance package and the station has begun to download Michael 
 Eric Dyson radio shows, with the plan being to appease Hard Knock listeners 
 with a soothing politically safe, academia-approved national Black 
 voice\n\nFull 
 article\nhttp://sfbayview.com/2010/save-kpfas-hard-knock-radio-flashpoints-and-full-circle/\n 
 https://www.indybay.org/newsitems/2010/11/03/18663056.php
SUMMARY:Rally to Save KPFA’s Hard Knock Radio, Flashpoints and Full Circle
LOCATION:in front of KPFA and the Pacifica network, 1925-1929 Martin Luther King Jr. 
 Way, Berkeley.   
URL:https://www.indybay.org/newsitems/2010/11/03/18663056.php
DTSTART:20101112T003000Z
DTEND:20101112T023000Z
END:VEVENT
END:VCALENDAR
