BEGIN:VCALENDAR
VERSION:2.0
X-WR-CALNAME:www.indybay.org
PRODID:-//indybay/ical// v1.0//EN
BEGIN:VEVENT
UID:Indybay-18661539
SEQUENCE:18735303
CREATED:20101017T011300Z
DESCRIPTION:Discussion at Revolution Books  with Revolution  Books staff on the 
 Revolution newspaper article, by Sunsara Taylor, "The Culture That Killed 
 Tyler Clementi ".\n\n\n\nBy now, the events leading up to the suicide of 
 Tyler Clementi, a gay student at Rutgers University in New Jersey, have 
 been widely reported. On September 19, Tyler asked his roommate, Dharun 
 Ravi, to stay out as he was having a private guest. Not long afterwards, 
 Ravi sent a message out over Twitter, "Roommate asked for the room till 
 midnight. I went into molly's room and turned on my webcam. I saw him 
 making out with a dude. Yay." Then, Ravi streamed Tyler's intimate 
 encounter live over the internet. Two days later, Ravi sent another message 
 about Tyler, "Anyone with iChat, I dare you to video chat me between the 
 hours of 9:30 and 12. Yes, it's happening again."\n\n\nThat same day, 
 discussing his reaction to this online, Tyler wrote: "And so I feel like it 
 was 'look at what a fag my roommate is...' Other people have commented on 
 his profile with things like 'how did you manage to go back in there?' and 
 'are you ok?' and the fact that the people he was with saw my making out 
 with a guy as the scandal whereas I mean come on... he was SPYING ON ME ... 
 do they see something wrong with this?"\n\n\nAfter that, Tyler Clementi 
 posted on Facebook, "Jumping off the gw bridge sorry."\n\nFor the full 
 article, go to www.revcom.us\n 
 https://www.indybay.org/newsitems/2010/10/16/18661539.php
SUMMARY:Discussion at Revolution Books:Discussion: The Culture That Killed Tyler Clementi
LOCATION:Revolution Books\n2425 Channing Way(in the Sather Gate Parking Mall off of 
 Telegraph Avenue).Wheelchair accessible,donations accepted.\n
URL:https://www.indybay.org/newsitems/2010/10/16/18661539.php
DTSTART:20101021T020000Z
DTEND:20101021T040000Z
END:VEVENT
END:VCALENDAR
