BEGIN:VCALENDAR
VERSION:2.0
X-WR-CALNAME:www.indybay.org
PRODID:-//indybay/ical// v1.0//EN
BEGIN:VEVENT
UID:Indybay-18660932
SEQUENCE:18734572
CREATED:20101009T014600Z
DESCRIPTION:Ramya Harishankar, the award winning artistic director and choreographer 
 for the Irvine based Arpana Dance Company will present her ‘Women in 
 E’Motion’ on October 23rd at Mahea Uchiyama Center for International 
 Dance in Berkeley. Please join us for this unique performance showcasing 
 ‘Abhinaya’ or interpretive dance within the genre of Bharata Natyam, a 
 classical Indian dance form that is a combination of the arts of the stage, 
 music, poetry, color and rhythm.\n\nAdmission: $15\n\n 
 https://www.indybay.org/newsitems/2010/10/08/18660932.php
SUMMARY:Ramya Harishankar presents ‘Women in E’Motion’
LOCATION:Mahea Uchiyama Center for International Dance \n729 Heinz Avenue #4 
 \nBerkeley, CA 94710\n
URL:https://www.indybay.org/newsitems/2010/10/08/18660932.php
DTSTART:20101024T030000Z
DTEND:20101024T050000Z
END:VEVENT
END:VCALENDAR
