BEGIN:VCALENDAR
VERSION:2.0
X-WR-CALNAME:www.indybay.org
PRODID:-//indybay/ical// v1.0//EN
BEGIN:VEVENT
UID:Indybay-18660784
SEQUENCE:18734357
CREATED:20101007T032500Z
DESCRIPTION: Delegation to Cuba and Benefit Performance\nJoin a work brigade to help 
 build a plant nursery as part of a reforestation project and cultural 
 exchange in Palma Soriano, Santiago de Cuba.  \nThis is an invitation by 
 the Berkeley's Sister City Association for December 2010. \nSupport the 
 project and enjoy a rare performance by Cuban dancer and folklorista Judith 
 Jutiz . She and her group will present live Afro Cuban music and perform 
 carnaval dances and Rumba.  Snacks, Wine and Raffle , Redwood Gardens , 
 2951 Derby St.,  Berkeley 510-684-1707\n\n 
 https://www.indybay.org/newsitems/2010/10/06/18660784.php
SUMMARY:Benefit Music Fiesta
LOCATION:Redwood Gardens\n2951 Derby\nBerkeley  CA
URL:https://www.indybay.org/newsitems/2010/10/06/18660784.php
DTSTART:20101017T210000Z
DTEND:20101018T000000Z
END:VEVENT
END:VCALENDAR
