BEGIN:VCALENDAR
VERSION:2.0
X-WR-CALNAME:www.indybay.org
PRODID:-//indybay/ical// v1.0//EN
BEGIN:VEVENT
UID:Indybay-18660687
SEQUENCE:18734258
CREATED:20101005T190600Z
DESCRIPTION:The Most Dangerous Man in America: Daniel Ellsberg and the Pentagon 
 Papers\nDuration: 1:56:46 \nCC STEREO TVPG\n\nWhy would a dedicated Cold 
 War strategist throw away his career, his friends and risk life in prison 
 for a chance to help end the Vietnam War? In 1971, Daniel Ellsberg, a 
 leading military planner, concluded that America's role in the war was 
 based on decades of lies. He leaked the Pentagon Papers, 7000 pages of 
 top-secret documents, to The New York Times, a daring act of conscience 
 that led to Watergate, President Nixon's resignation and the end of the 
 Vietnam War. "The Most Dangerous Man in America: Daniel Ellsberg and the 
 Pentagon Papers" is a tale told by Ellsberg with a who's who of Vietnam and 
 Watergate-era figures.\n\nChannels and Airdates:\n\nKQED 9HD\nTue, Oct 5, 
 2010 -- 9:00pm\nWed, Oct 6, 2010 -- 3:00am\n\nKQED Life\nWed, Oct 6, 2010 
 -- 8:00pm \nThu, Oct 7, 2010 -- 2:00am\n\nKQED World\nSat, Oct 9, 2010 -- 
 4:00pm\nSun, Oct 10, 2010 -- 9:00pm\nMon, Oct 11, 2010 -- 3:00am\n 
 https://www.indybay.org/newsitems/2010/10/05/18660687.php
SUMMARY:Daniel Ellsberg, "The Most Dangerous Man..." On TV Tonight
LOCATION:KQED 9HD
URL:https://www.indybay.org/newsitems/2010/10/05/18660687.php
DTSTART:20101006T040000Z
DTEND:20101006T060000Z
END:VEVENT
END:VCALENDAR
