BEGIN:VCALENDAR
VERSION:2.0
X-WR-CALNAME:www.indybay.org
PRODID:-//indybay/ical// v1.0//EN
BEGIN:VEVENT
UID:Indybay-18660291
SEQUENCE:18733715
CREATED:20100930T024000Z
DESCRIPTION:GMOs and the Impact on Our Health and Environment\nLecture by Jeffrey 
 Smith, Author of book Seeds of Deception\nLeading consumer advocate for 
 healthy food.\nIntroduction by John Robbins, author of Diet for a New 
 America.\n \nMost people are eating genetically-modified corn without 
 realizing it. \nThis technology is being adopted despite evidence of toxic 
 and allergic\neffects of GMO food. GMO rice and salmon are being proposed. 
 Learn how\nyou can protect yourself and the planet.\n \nMonday Oct 4, 
 7pm\nLive Oak Grange\n1900 17th Ave\nFree, donations accepted\n 
 https://www.indybay.org/newsitems/2010/09/29/18660291.php
SUMMARY:Genetically Modified Organisms and Health
LOCATION:Live Oak Grange\n1900 17th Ave
URL:https://www.indybay.org/newsitems/2010/09/29/18660291.php
DTSTART:20101005T020000Z
DTEND:20101005T040000Z
END:VEVENT
END:VCALENDAR
