BEGIN:VCALENDAR
VERSION:2.0
X-WR-CALNAME:www.indybay.org
PRODID:-//indybay/ical// v1.0//EN
BEGIN:VEVENT
UID:Indybay-18660142
SEQUENCE:18734247
CREATED:20100928T180000Z
DESCRIPTION:"Revolution Newspaper...and Making Revolution For Real". We will show a 
 video from a recent event at NYC Revolution Books, followed by 
 discussion.\n\n\n https://www.indybay.org/newsitems/2010/09/28/18660142.php
SUMMARY:"Revolution Newspaper...and Making Revolution For Real"
LOCATION:Revolution Books\n2425 Channing Way(in the Sather Gate Parking Mall off of 
 Telegrapha Avenue).Wheelchair accessible,donations accpeted.
URL:https://www.indybay.org/newsitems/2010/09/28/18660142.php
DTSTART:20101006T020000Z
DTEND:20101006T040000Z
END:VEVENT
END:VCALENDAR
