BEGIN:VCALENDAR
VERSION:2.0
X-WR-CALNAME:www.indybay.org
PRODID:-//indybay/ical// v1.0//EN
BEGIN:VEVENT
UID:Indybay-18659517
SEQUENCE:18732667
CREATED:20100922T221700Z
DESCRIPTION:11am-6pm, at CELLSpace\n2050 Bryant St. (x 18th St.), SF\n\nThe Expo is the 
 Bay Area’s only grassroots connection fair for independent arts, music & 
 culture, and your place to access Skills, Resources and Connections!\n\n• 
 Press release (PDF), schedule of workshops and exhibitor list\n\n• 
 Reserve a table for your arts project/service for just $25\n\nAt the Expo: 
 RSVP for SF Arts Commission workshop\n“Face Time with the SF Arts 
 Commission” Panel, 1-2pm, one-on-one talks 2-4pm: Space is limited! Want 
 feedback on your portfolio? Interested in painting a mural in your 
 community? Heard about SFAC’s Art in Storefronts program and want to 
 participate? SFAC staff will meet one-on-one with YOU at the Expo, for 15 
 minutes to talk about any thing you like. To register for a Face Time slot, 
 email robynn.takayama@sfgov.org … Half the slots are advanced 
 registration. The other half are first-come-first-serve at the 
 Expo.\n\nJUST ADDED: By popular demand, a half hour visual artists group 
 discussion with SFAC Gallery Manager Aimee Le Duc and SOMArts Gallery 
 Director Justin Hoover will be held at 4:30 for artists who do not make it 
 into one of their Face Time slots.\n 
 https://www.indybay.org/newsitems/2010/09/22/18659517.php
SUMMARY:11th Anual Expo for Independent Arts
LOCATION:CELLSpace 2050 Bryant St. (x 18th St.), SF\n
URL:https://www.indybay.org/newsitems/2010/09/22/18659517.php
DTSTART:20100925T180000Z
DTEND:20100926T000000Z
END:VEVENT
END:VCALENDAR
