BEGIN:VCALENDAR
VERSION:2.0
X-WR-CALNAME:www.indybay.org
PRODID:-//indybay/ical// v1.0//EN
BEGIN:VEVENT
UID:Indybay-18659508
SEQUENCE:18732641
CREATED:20100922T205500Z
DESCRIPTION:Aftershock is a brilliant revealing of our harrowing economic crisis and 
 how we should deal with its aftermath. When the nation's economy foundered 
 in 2008, blame was almost universally pointed at Wall Street, but renowned 
 economist and political theorist Robert Reich posits a different reason for 
 this meltdown - and for the seemingly treacherous road ahead. He argues 
 that the real problem is structural: it lies in the increasing 
 concentration of income and wealth at the very top, with everyone else 
 sinking into hardship and debt. Reich offers a thoroughly practical, 
 humane, desperately needed blueprint for lastingly improving America's 
 economy. \n\nRobert Reich is Professor of Public Policy at the University 
 of California at Berkeley. He has served in three national administrations, 
 most recently as secretary of labor under President Bill Clinton, and as 
 economic advisor to President Obama. Among his twelve books are: The Future 
 of Success, Locked in the Cabinet, Supercapitalism and Reason. His articles 
 have appeared in The New Yorker, The New York Times, and The Wall Street 
 Journal. His "Marketplace" commentaries can be found on publicradio.com and 
 iTunes.\n\n"We've got Reich, they've got Coulter. We win." -Al 
 Franken\n\nIntroduced by Mitch Jeserich, host of KPFA Radio's 'Letters To 
 Washington' \n\n$10 advance tickets at Pegasus Books, Pendragon, Mrs. 
 Dalloway's, Moe's, Walden Pond, DIESEL, A Bookstore, and Modern Times\nor 
 http://www.brownpapertickets.com/event/124401\nor at 800-838-3006   ($12 
 door)\nKPFA benefit\n 
 https://www.indybay.org/newsitems/2010/09/22/18659508.php
SUMMARY:Robert Reich: Aftershock: The Next Economy and America's Future
LOCATION:First Congregational Church of Berkeley\n2345 Channing Way\nBerkeley, CA 
 94704\n510-848-3696\nhttp://www.fccb.org
URL:https://www.indybay.org/newsitems/2010/09/22/18659508.php
DTSTART:20101005T023000Z
DTEND:20101005T043000Z
END:VEVENT
END:VCALENDAR
