BEGIN:VCALENDAR
VERSION:2.0
X-WR-CALNAME:www.indybay.org
PRODID:-//indybay/ical// v1.0//EN
BEGIN:VEVENT
UID:Indybay-18659434
SEQUENCE:18732540
CREATED:20100922T012800Z
DESCRIPTION:he Future of the Mt. Tamalpais Watershed,\nCommunity Workshop -\nCome join 
 fellow Marin residents, conservationists, and Mt. Tamalpais enthusiasts to 
 discuss the future of the Mt. Tamalpais watershed and to help chart a 
 course for this invaluable community asset. The Marin Municipal Water 
 District is hosting three workshops this fall to work with the community to 
 identify priorities for the watershed in the coming years, to explore 
 options for enhanced stewardship, and to discuss the creation of a 
 citizen-based organization to oversee this endeavor.\nThe first workshop 
 will be held on Wednesday, September 22 from 6:30 to 9:00 p.m. at\nBacich 
 Elementary School in Kentfield, 699 Sir Francis Drake Blvd..\nFor planning 
 purposes, please click the link to pre-register.\nIf you have any questions 
 about the workshop,MMWD Watershed Manager Mike Swezy ( 
 mswezy@marinwater.org ). put up by http://twitter.com/davidaquinley\n 
 https://www.indybay.org/newsitems/2010/09/21/18659434.php
SUMMARY:1st Workshop>Kentfield<Future of the Mt. Tamalpais Watershed>Pre-Register
LOCATION:6:30 - 9:00 PM\nThe Future of the Mt. Tamalpais Watershed,\nCommunity 
 Workshop -\nCome join fellow Marin residents, conservationists, and Mt. 
 Tamalpais enthusiasts to discuss the future of the Mt. Tamalpais watershed 
 and to help chart a course for this invaluable community asset. The Marin 
 Municipal Water District is hosting three workshops this fall to work with 
 the community to identify priorities for the watershed in the coming years, 
 to explore options for enhanced stewardship, and to discuss the creation of 
 a citizen-based organization to oversee this endeavor.\nThe first workshop 
 will be held on Wednesday, September 22 from 6:30 to 9:00 p.m. at\nBacich 
 Elementary School in Kentfield, 699 Sir Francis Drake Blvd..\nFor planning 
 purposes, please click the link to pre-register.\nIf you have any questions 
 about the workshop,
URL:https://www.indybay.org/newsitems/2010/09/21/18659434.php
DTSTART:20100923T013000Z
DTEND:20100923T040000Z
END:VEVENT
END:VCALENDAR
