BEGIN:VCALENDAR
VERSION:2.0
X-WR-CALNAME:www.indybay.org
PRODID:-//indybay/ical// v1.0//EN
BEGIN:VEVENT
UID:Indybay-18659334
SEQUENCE:18732405
CREATED:20100920T213900Z
DESCRIPTION:Rally at Valero in Downtown Berkeley\n\nSaturday  -  
 9/25/10\n\n11am-1pm\n\nBerkeley citizens, students, and local officials 
 will be joining together outside of Valero to show their upset with 
 Valero's participation in Proposition 23 and to educate the passerbys to 
 vote NO on 23!  Guest appearances include Kriss Worthington from Berkeley's 
 City Council.\n\n\n 
 https://www.indybay.org/newsitems/2010/09/20/18659334.php
SUMMARY:Berkeley Valero Rally Against Prop 23
LOCATION:Valero Station on corner of Martin Luther King Jr.  and University Ave
URL:https://www.indybay.org/newsitems/2010/09/20/18659334.php
DTSTART:20100925T180000Z
DTEND:20100925T193000Z
END:VEVENT
END:VCALENDAR
