BEGIN:VCALENDAR
VERSION:2.0
X-WR-CALNAME:www.indybay.org
PRODID:-//indybay/ical// v1.0//EN
BEGIN:VEVENT
UID:Indybay-18659249
SEQUENCE:18732291
CREATED:20100920T005000Z
DESCRIPTION:An Evening with Robert Fisk, best selling author, provocative journalist, 
 master story teller and excoriating critic of those in power.\n\n“Lies, 
 Misreporting and Catastrophe in the Middle East” \n\nMonday, September 
 20, 2010;  7:00 p.m.  \n\nCSUS: Student Union. Redwood Room.  (Doors open 
 at 6:30 PM)  Come early, leave time for parking, SEATING IS LIMITED.  
 \n\nFree parking: Parking Structure III, 6th floor only (attached 
 map)\n\nAdmission $15,  Seniors: $10,  CSUS Students with ID 
 $5\n\nSponsored by CSUS Middle East Cultural Association, Focus on the 
 Middle East, and Sacramento Physicians for Social Responsibility\n\nAbout 
 his writing:  “Passionate in his concerns about the region and relentless 
 in his pursuit of the truth, Fisk has been able to enter the world of the 
 Middle East and the lives of its people as few other journalists have.”  
 \n\n“Fisk interweaves this history with his own vividly rendered 
 experiences in Iraq, Iran, Afghanistan, Algeria, Palestine and Lebanon–on 
 the front lines; behind the scenes; in the streets of cities and villages; 
 and inside military headquarters, the hideouts of guerrillas, the homes of 
 ordinary citizens."    \n\nRecent Article on 9-11:  Robert Fisk: Nine 
 years, two wars, hundreds of thousands dead - and nothing learnt.  
 http://bit.ly/90oQws\n 
 https://www.indybay.org/newsitems/2010/09/19/18659249.php
SUMMARY:An Evening with Robert Fisk
LOCATION:CSUS: Student Union. Redwood Room.
URL:https://www.indybay.org/newsitems/2010/09/19/18659249.php
DTSTART:20100921T020000Z
DTEND:20100921T050000Z
END:VEVENT
END:VCALENDAR
