BEGIN:VCALENDAR
VERSION:2.0
X-WR-CALNAME:www.indybay.org
PRODID:-//indybay/ical// v1.0//EN
BEGIN:VEVENT
UID:Indybay-18659199
SEQUENCE:18732228
CREATED:20100919T063100Z
DESCRIPTION:Harvest Home Spa Day!\nOn Saturday, September 25th (11:00am to 2:00 p.m.), 
 we are delighted to invite you to our next “Harvest Home Spa Day.” We 
 will be grooming and providing health checks to our rabbit and bird 
 residents. To attend, email us in advance.  See our website for link to 
 email: http://www.harvesthomeanimal.org/events/index.html\n 
 https://www.indybay.org/newsitems/2010/09/18/18659199.php
SUMMARY:Spa Day - Harvest Home Animal Sanctuary
LOCATION:Harvest Home Animal Sanctuary\nTracy, CA \n\nRSVP for directions!
URL:https://www.indybay.org/newsitems/2010/09/18/18659199.php
DTSTART:20100925T180000Z
DTEND:20100925T210000Z
END:VEVENT
END:VCALENDAR
