BEGIN:VCALENDAR
VERSION:2.0
X-WR-CALNAME:www.indybay.org
PRODID:-//indybay/ical// v1.0//EN
BEGIN:VEVENT
UID:Indybay-18658607
SEQUENCE:18731397
CREATED:20100913T203800Z
DESCRIPTION:Despite electing Barack Obama as president, do we truly live in a 
 post-racial world? Last year, NPR’s Norris set off to explore the 
 “hidden conversation on race.” What started as a report on our 
 country’s evolving attitudes toward race turned into an intense personal 
 journey through  her own family history and racial identity. Norris offers 
 her thoughts and observations and shares what it was like to explore the 
 “things left unsaid” by her own family. \n 
 https://www.indybay.org/newsitems/2010/09/13/18658607.php
SUMMARY:Michele Norris, Co-host of NPR's All Things Considered and author of The Grace of Silence
LOCATION:Student Union, San Jose State University\nOne Washington Square, San Jose
URL:https://www.indybay.org/newsitems/2010/09/13/18658607.php
DTSTART:20101008T020000Z
DTEND:20101008T030000Z
END:VEVENT
END:VCALENDAR
