BEGIN:VCALENDAR
VERSION:2.0
X-WR-CALNAME:www.indybay.org
PRODID:-//indybay/ical// v1.0//EN
BEGIN:VEVENT
UID:Indybay-18658405
SEQUENCE:18731098
CREATED:20100911T011600Z
DESCRIPTION:Stanislaus County Radical Mental Health & Consumer Network Proudly 
 Present…\n\n\n\nCrooked Beauty and the Embodiment of Madness\n\n\nA two 
 day event Oct. 8th & 9th 2010 \n\nDay 1: Crooked Beauty and the Embodiment 
 of Madness - Film Screening\n\nFilmmaker and mental health activist Ken 
 Paul Rosenthal will screen Crooked Beauty, his poetic documentary that 
 chronicles artist-activist Jacks McNamara’s journey from psych ward 
 patient to pioneering mental health advocate. Rosenthal will talk about his 
 challenge to embody the film’s character with compassion and 
 authenticity. Discussion will focus on nurturing wellness through our 
 relationship to the natural world, and drawing new maps for ‘madness’ 
 as a tool of insight, creativity and hope.   
 www.crookedbeauty.com\n\n7-8:30pm @ Stanislaus County Behavioral Health 
 Services-500 North 9th Street Modesto Ca, ? Donations $$$ HIGHLY 
 accepted.\n\nDay 2: The Intertwined Threads of Madness and Creativity - 
 Workshop\n\nThis is a highly interactive conscious dialogue circle for 10 
 to 15 participants who identify as artists or actively creative beings. 
 Each person is asked to consider the same three fundamental questions 
 regarding their history with creativity and mental health, briefly describe 
 their reflections on paper, then openly share and discuss them with the 
 entire group. This humble yet profound framework has proven remarkably 
 transformative and inspiring as a means of personal growth and building 
 community.\n\n11am-12:30pm @ At Firehouse 51 (social space), 410 James 
 Street Modesto Ca, \n$5 admittance fee. \n\nKen Paul Rosenthal is an 
 independent filmmaker, teacher, and a regional coordinator for the Bay Area 
 Icarus Project (. His films weave personal and political narratives into 
 natural and urban landscapes. Ken holds an MA in Creative & 
 Interdisciplinary Arts, an MFA in Cinema Production, and has taught film as 
 a means of cultivating personal vision in workshops and universities 
 nationally and internationally. He is a recipient of a Kodak Award for 
 Cinematography.  www.kenpaulrosenthal.com \n\n\n\n 
 https://www.indybay.org/newsitems/2010/09/10/18658405.php
SUMMARY:Fri. Oct. 8th & Sat. Oct. 9th in Modesto.
LOCATION:Stanislaus County Radical Mental Health & Consumer Network Proudly 
 Present…\n\n\n\nCrooked Beauty and the Embodiment of Madness\n\n\nA two 
 day event Oct. 8th & 9th 2010 \n
URL:https://www.indybay.org/newsitems/2010/09/10/18658405.php
DTSTART:20101009T020000Z
DTEND:20101009T033000Z
END:VEVENT
END:VCALENDAR
