BEGIN:VCALENDAR
VERSION:2.0
X-WR-CALNAME:www.indybay.org
PRODID:-//indybay/ical// v1.0//EN
BEGIN:VEVENT
UID:Indybay-18657956
SEQUENCE:18730511
CREATED:20100906T074600Z
DESCRIPTION:All levels & bodies WELCOMED! Pilates is great for athletes looking for 
 cross-training to support their usual activities, for people finishing 
 physical therapy who need to mobilize their bodies, and EVERYONE in 
 between! \n\nDonation based, no one turned away for lack of funds 
 \n\n\nMondays 7:00pm at the Long Haul 3124 Shattuck @ Woolsey, Berkeley 
 \n\nWednesdays 7:00pm at Rock Paper Scissors 23rd and Telegraph, 
 Oakland\n\n https://www.indybay.org/newsitems/2010/09/06/18657956.php
SUMMARY:East Bay Free Skool Class: Pilates to the People
LOCATION:Rock Paper Scissors 23rd and Telegraph, Oakland\n
URL:https://www.indybay.org/newsitems/2010/09/06/18657956.php
DTSTART:20101021T020000Z
DTEND:20101021T030000Z
END:VEVENT
END:VCALENDAR
