BEGIN:VCALENDAR
VERSION:2.0
X-WR-CALNAME:www.indybay.org
PRODID:-//indybay/ical// v1.0//EN
BEGIN:VEVENT
UID:Indybay-18657314
SEQUENCE:18729750
CREATED:20100901T170700Z
DESCRIPTION:The Free Palestine Movement, in collaboration with the Arab Cultural and 
 Community Center, invites you to join us for an evening of discussion, 
 dinner and live entertainment by the highly acclaimed musical group, 
 Aswat!\n\nIn May, 2010, a U.S. delegation from the Free Palestine Movement 
 joined the Gaza Freedom Flotilla,\na civilian marine convoy carrying 
 thousands of tons of humanitarian aid and hundreds of volunteers to Gaza. 
 Israeli forces attacked these ships in international waters, killing nine 
 human rights volunteers and injuring many more.\n\nCome hear four 
 distinguished Americans who\nsurvived the Gaza Freedom Flotilla 
 attack:\n\nAmbassador Ed Peck, Veteran and USS Liberty Survivor, Joe 
 Meadors, Engineer, Gene St. Onge and FPM Co-Founder, Paul Larudee.\n\nWe 
 will hold our fundraiser at the beautiful San Mateo County Event Center at 
 2495 South Delaware Street in San Mateo. \n 
 https://www.indybay.org/newsitems/2010/09/01/18657314.php
SUMMARY:Fundraiser for the Free Palestine Movement
LOCATION: 	\nSan Mateo Event Center\n2495 South Delaware Street\nSan Mateo, CA 94403
URL:https://www.indybay.org/newsitems/2010/09/01/18657314.php
DTSTART:20100926T013000Z
DTEND:20100926T063000Z
END:VEVENT
END:VCALENDAR
