BEGIN:VCALENDAR
VERSION:2.0
X-WR-CALNAME:www.indybay.org
PRODID:-//indybay/ical// v1.0//EN
BEGIN:VEVENT
UID:Indybay-18657282
SEQUENCE:18729684
CREATED:20100901T005700Z
DESCRIPTION:    “The Warmth of Other Suns: The Epic Story of America’s Great 
 Migration” brilliantly chronicles the decades-long migration of 
 African-Americans from the South to the North and West, from World War I 
 through the 1970’s – through the stories of three individuals and their 
 families. Over a decade in the writing and research, drawing on archival 
 materials and more than 1,200 interviews, Isabel Wilkerson chronicles a 
 major shift in American life, comparable to the immigration experience of 
 many people who came to this country, setting off into the unknown in 
 search of a better life. It will stand as a classic of narrative journalism 
 and of modern American history, equaling masterworks by Diane McWhorter, 
 Doris Kearns Goodwin, and Robert Caro. \n\nIsabel Wilkerson, the first 
 African-American woman to win the Pulitzer Prize in journalism, is 
 Professor of Journalism and Director of Narrative Nonfiction at Boston 
 University. She has also won a George S. Polk Award, a Guggenheim 
 Fellowship, and a Journalist of the Year Award from the National 
 Association of Black Journalists. This is her first book.\n\n“Profound, 
 necessary and an absolutely compelling read.” – Toni Morrison\n     
 \n“Isabel Wilkerson’s book is a masterful narrative of the rich wisdom 
 and deep courage of a great people. Don’t miss it.” — Cornel 
 West\n\n$10 advance tickets: http://www.brownpapertickets.com/event/121408 
 :: 800-838-3006 \nor: Marcus Books, Pegasus Books, Pendragon, Mrs. 
 Dalloway’s, Moe’s, Walden Pond, DIESEL, A Bookstore SF: Marcus Books,  
 Modern Times\n ($12 door)\n\nInformation: www.kpfa.org/events    KPFA 
 benefit \n\n https://www.indybay.org/newsitems/2010/08/31/18657282.php
SUMMARY:Isabel Wilkerson: The Warmth of Other Suns: The Epic Story of America's Great Migration
LOCATION:St. Paul's Episcopal Church, 114 Montecito Avenue, Oakland
URL:https://www.indybay.org/newsitems/2010/08/31/18657282.php
DTSTART:20100924T023000Z
DTEND:20100924T043000Z
END:VEVENT
END:VCALENDAR
