BEGIN:VCALENDAR
VERSION:2.0
X-WR-CALNAME:www.indybay.org
PRODID:-//indybay/ical// v1.0//EN
BEGIN:VEVENT
UID:Indybay-18656796
SEQUENCE:18729043
CREATED:20100825T222300Z
DESCRIPTION:Reception for Kearny Street Workshop's residence "Transforming Fictions" at 
 the de Young Museum throughout September 2010. With light refreshments and 
 a performance by Pireeni Sundaralingam.\nWhen\n	Fri Sep 24 6pm – 8:30pm 
 Pacific Time\nWhere\n	de Young Museum, 50 Hagiwara Tea Garden Dr., 
 SF\n\nFour interdisciplinary artists working with Kearny Street Workshop in 
 the de Young Artist Studio will make work individually while benefiting 
 from the creative stimulus of other artists working in different formats 
 nearby. In a workshop environment, visual artists Ala Ebtekar and Julie 
 Chang, scientist/poet Pireeni Sundaralingam and choreographer Erika Chong 
 Shuch will develop new projects that draw from their own ideas and those of 
 their neighbors.\n 
 https://www.indybay.org/newsitems/2010/08/25/18656796.php
SUMMARY:de Young Artist Studio Reception for Transforming Fictions
LOCATION:de Young Museum, 50 Hagiwara Tea Garden Dr., SF 
URL:https://www.indybay.org/newsitems/2010/08/25/18656796.php
DTSTART:20100925T010000Z
DTEND:20100925T033000Z
END:VEVENT
END:VCALENDAR
