BEGIN:VCALENDAR
VERSION:2.0
X-WR-CALNAME:www.indybay.org
PRODID:-//indybay/ical// v1.0//EN
BEGIN:VEVENT
UID:Indybay-18655855
SEQUENCE:18727688
CREATED:20100811T070800Z
DESCRIPTION:By 10 am - along Market Street: Daily Slots (Eliza Barrios and Paz De la 
 Calzada) re-purposes newsstands with alternative messages that focus on the 
 economy, consumerism and the un-sustainability of the capitalistic 
 culture.\n https://www.indybay.org/newsitems/2010/08/11/18655855.php
SUMMARY:Capitalism Is Over If You Want It; Daily Slots
LOCATION:Along Market St. Embarcadero to Montgomery thereabouts
URL:https://www.indybay.org/newsitems/2010/08/11/18655855.php
DTSTART:20100811T170000Z
DTEND:20100812T050000Z
END:VEVENT
END:VCALENDAR
