BEGIN:VCALENDAR
VERSION:2.0
X-WR-CALNAME:www.indybay.org
PRODID:-//indybay/ical// v1.0//EN
BEGIN:VEVENT
UID:Indybay-18655731
SEQUENCE:18727455
CREATED:20100809T091000Z
DESCRIPTION:San Francisco's most moxybustious reading series is busting out once 
 again!\n\nWhen: Saturday, August 14, 2010, 7:30 to 9:30 PM, doors open at 
 6:30 PM\nWho: Janine Brito, Alice Sola Kim, Justine Sharrock, Monica Nolan 
 and Oscar Bermeo\nWhere: The Make Out Room, 3225 22nd. St. between Mission 
 and Valencia, San Francisco How much: $5 to $10 sliding scale, all proceeds 
 benefit the CSC\n\nAbout the readers/performers:\n\nJustine Sharrock is the 
 author of Tortured: When Good Soldiers Do Bad Things. She's a former 
 staffer with Mother Jones Magazine.\n\nAlice Sola Kim's stories have 
 appeared in Asimov's Science Fiction, StrangeHorizons.com and Lady 
 Churchill's Rosebud Wristlet.\n\nOscar Bermeo's poetry chapbooks include To 
 The Break of Dawn, Heaven Below, Palimpsest and Anywhere Avenue.\n\nMonica 
 Nolan is the author of Lois Lenz, Lesbian Secretary and Bobby Blanchard, 
 Lesbian Gym Teacher. Her films include Ashley, 22, Chuckie or Ben-Hur in 
 Five Minutes, World of Women, and Lesbians Who Date Men.\n\nJanine Brito 
 won the San Francisco Women's Comedy competition and has performed at the 
 Purple Onion.\n\n\nAbout Writers With Drinks:\n\nWriters With Drinks has 
 won "Best Literary Night" from the SF Bay Guardian readers' poll five  
 years in a row and was named "Best Literary Drinking" by the SF Weekly. The 
 spoken word "variety show" mixes genres to raise money for local worthy 
 causes. The award-winning show includes poetry, stand-up comedy, science 
 fiction, fantasy, romance, mystery, literary fiction, erotica, memoir, 
 zines and blogs in a freewheeling format.\n\nHostess Charlie Jane Anders 
 blogs about science fiction and futurism at io9.com. She won the Emperor 
 Norton Award for "extraordinary invention and creativity unhindered by the 
 constraints of paltry reason." She's the author of the Lambda Award-winning 
 Choir Boy (2005 Soft Skull Press) and the co-editor, with Annalee Newitz, 
 of She's Such A Geek (Seal Press 2007). She also published other magazine, 
 which is on hiatus. Follow her on Twitter as charliejane.\n\n\n 
 https://www.indybay.org/newsitems/2010/08/09/18655731.php
SUMMARY:Writers With Drinks w/ Justine Sharrock and more
LOCATION:The Make Out Room, 3225 22nd. St.
URL:https://www.indybay.org/newsitems/2010/08/09/18655731.php
DTSTART:20100815T023000Z
DTEND:20100815T043000Z
END:VEVENT
END:VCALENDAR
