BEGIN:VCALENDAR
VERSION:2.0
X-WR-CALNAME:www.indybay.org
PRODID:-//indybay/ical// v1.0//EN
BEGIN:VEVENT
UID:Indybay-18655568
SEQUENCE:18727227
CREATED:20100807T174300Z
DESCRIPTION:Report Back from Arizona Freedom Summer!\n  Rafael Kadaris who spent over a 
 month in Phoenix as a volunteer with "Arizona Freedom Summer" will be 
 reporting back from the front lines of the fight to stop the system's 
 fascist attacks on immigrants,and in particular SB1070 which went into 
 effect on July 29th.               \n   He will give an on-the-ground 
 picture of what it is like to be an immigrant in Arizona -- driven from 
 your home country by forces beyond your control, risking your life to get 
 to the U.S. just to find a job in order to survive, then terrorized by 
 vicious police and racist vigilantes when you get here -- and he will 
 report on the growing resistance to all this, especially the movement for 
 revolution which has been in the middle of this battle with the message, 
 "We don't have an immigration problem...We have a capitalism problem." \n 
 https://www.indybay.org/newsitems/2010/08/07/18655568.php
SUMMARY:Report Back From Arizona Freedom Summer !
LOCATION:Revolution Books\n2425 Channing Way(in the Sather Gate Parking Mall off of 
 Telegraph Avenue).Wheelchair accessible,donations accepted.
URL:https://www.indybay.org/newsitems/2010/08/07/18655568.php
DTSTART:20100811T020000Z
DTEND:20100811T040000Z
END:VEVENT
END:VCALENDAR
