BEGIN:VCALENDAR
VERSION:2.0
X-WR-CALNAME:www.indybay.org
PRODID:-//indybay/ical// v1.0//EN
BEGIN:VEVENT
UID:Indybay-18654451
SEQUENCE:18725612
CREATED:20100721T222300Z
DESCRIPTION:A revolutionary play written and performed by residents currently\nliving, 
 struggling and sometimes even thriving life in Single Room\nOccupancy 
 Hotels (SRO's) aka Poor People Housing\n\n 
 https://www.indybay.org/newsitems/2010/07/21/18654451.php
SUMMARY:HOTEL VOICES--Theatre and performance project from Single Room Occupancy Hotel residents
LOCATION:Redstone Building 2940 16th st San Francisco – 1 blk Below 
 Mission\nstreet (& 16th st BART station)\n
URL:https://www.indybay.org/newsitems/2010/07/21/18654451.php
DTSTART:20100731T020000Z
DTEND:20100731T033000Z
END:VEVENT
END:VCALENDAR
