BEGIN:VCALENDAR
VERSION:2.0
X-WR-CALNAME:www.indybay.org
PRODID:-//indybay/ical// v1.0//EN
BEGIN:VEVENT
UID:Indybay-18654246
SEQUENCE:18725343
CREATED:20100719T202500Z
DESCRIPTION:Come and join our Free Fitness Class every Friday at noon.\nNext class is 
 Yoga!!\n\nJuly 23@ Across 855 Sacrament Street\nNo registration 
 required\n\nChinatown YMCA\nhttp://www.ymcasf.org/chinatown/\n 
 https://www.indybay.org/newsitems/2010/07/19/18654246.php
SUMMARY:Chinatown YMCA Free Fitness Class
LOCATION:Across 855 Sacrament Street
URL:https://www.indybay.org/newsitems/2010/07/19/18654246.php
DTSTART:20100723T193000Z
DTEND:20100723T203000Z
END:VEVENT
END:VCALENDAR
