BEGIN:VCALENDAR
VERSION:2.0
X-WR-CALNAME:www.indybay.org
PRODID:-//indybay/ical// v1.0//EN
BEGIN:VEVENT
UID:Indybay-18653382
SEQUENCE:18724050
CREATED:20100709T233300Z
DESCRIPTION:Cuba: Balanced on a Razor’s Edge--come to an eyewitness reportback on the 
 state of the island by multicultural educator and Marxist theoretician Dr. 
 Bob Price. Free quality education and healthcare, the lowest illiteracy and 
 infant mortality rates in Latin America, and export of doctors and teachers 
 to struggling countries—all stand out as gains of revolutionary Cuba. 
 But, can the revolution endure? Discussion follows. Cuban dinner at 6pm, 
 with vegetarian option. Host: Freedom Socialist Party.\n 
 https://www.indybay.org/newsitems/2010/07/09/18653382.php
SUMMARY:Cuba: Balanced on a Razor Edge
LOCATION:New Valencia Hall\n625 Larkin Street\nSan Francisco, CA 94109
URL:https://www.indybay.org/newsitems/2010/07/09/18653382.php
DTSTART:20100725T023000Z
DTEND:20100725T043000Z
END:VEVENT
END:VCALENDAR
