BEGIN:VCALENDAR
VERSION:2.0
X-WR-CALNAME:www.indybay.org
PRODID:-//indybay/ical// v1.0//EN
BEGIN:VEVENT
UID:Indybay-18652828
SEQUENCE:18723217
CREATED:20100706T224400Z
DESCRIPTION:Art in Storefronts continues to garner national attention with its colorful 
 murals and provocative installations that enliven Chinatown streets. Join 
 the artists and property owners to learn about the Lion’s Den and the 
 heyday of Wentworth Alley captured in Robert Minervini’s mural. Hear 
 about the hungry visitors who try to enter Niana Liu’s faux-restaurant 
 installation and how local merchants have embraced her. And find out how 
 Leland Wong photographed 100 children in less than one month. These stories 
 and more will be shared at a bi-lingual community discussion for Art in 
 Storefronts.\n\nAn artist-led tour of the storefronts and murals follows 
 the discussion.\n\n 
 https://www.indybay.org/newsitems/2010/07/06/18652828.php
SUMMARY:Behind the Scenes of Art in Storefronts
LOCATION:Chinese Culture Center of San Francisco\n750 Kearny St., Floor 3\nSan 
 Francisco 94108
URL:https://www.indybay.org/newsitems/2010/07/06/18652828.php
DTSTART:20100717T210000Z
DTEND:20100717T230000Z
END:VEVENT
END:VCALENDAR
