BEGIN:VCALENDAR
VERSION:2.0
X-WR-CALNAME:www.indybay.org
PRODID:-//indybay/ical// v1.0//EN
BEGIN:VEVENT
UID:Indybay-18652657
SEQUENCE:18723003
CREATED:20100705T030700Z
DESCRIPTION:Fri-Sun, September 24-26, 2010; Friday 2pm until Sunday 2pm\n\nLet's Get 
 Real: Unlearning Racism (Overnight) Retreat\n\nFacilitator: Lee Mun 
 Wah\n\nThere is so much that is unsaid in this country about race issues. 
 In this retreat we will explore a variety of ways to have this dialogue on 
 race and racism that will lead to a more intimate and honest conversation 
 and relationship with each other. This retreat is about confronting some of 
 the issues that keep us all from talking to one another about race/racism. 
 It is also about discovering new ways to begin that conversation, how to 
 create a bridge to talk about our differences, exploring what opens us up 
 and what closes us down, and finally, 101 ways to become Culturally 
 Competent in our relationships and workplaces.\n\nBefore we can truly 
 become a multicultural nation, we must have a relationship based on respect 
 and understanding, reflection and curiosity; where our differences and our 
 similarities are embraced, valued and integrated into the very fabric of 
 our workplaces, communities, schools and governmental institutions. What is 
 required is an on-going dialogue and relationship with each other. I hope 
 that you will join us in making this not only a better world for our 
 children, but for ourselves - not by starting tomorrow, but by beginning 
 that conversation today.\n\nParticipants will learn:\n\n    * 9 Healthy 
 Ways to Communicate\n    * 101 Ways to Become Culturally Competent\n    * 
 21 Statements That Stop A Diversity Conversation\n    * The Art of 
 Listening & Responding Cross-Culturally\n\nPlease bring with you sleeping 
 bags/overnight gear if you wish to spend the night in our training center 
 and/or on the property grounds.\n\nRequired Materials\n\nYou are required 
 to purchase the items you do not already have.\n\n    * Diversity First-Aid 
 Kit ($60)\n    * The Practice of Honoring Diversity ($10)\n    * Let's Get 
 Real About Racism Book (forthcoming) ($25)\n\n* Note: These items will be 
 made available for you at the workshop.\n 
 https://www.indybay.org/newsitems/2010/07/04/18652657.php
SUMMARY:Let's Get Real: Unlearning Racism (Overnight) Retreat
LOCATION:Quan Yin Training Center\n2311 8th Street\nBerkeley, CA 
 94710\n510-204-8840\n
URL:https://www.indybay.org/newsitems/2010/07/04/18652657.php
DTSTART:20100924T210000Z
DTEND:20100924T210000Z
END:VEVENT
END:VCALENDAR
