BEGIN:VCALENDAR
VERSION:2.0
X-WR-CALNAME:www.indybay.org
PRODID:-//indybay/ical// v1.0//EN
BEGIN:VEVENT
UID:Indybay-18652600
SEQUENCE:18722917
CREATED:20100704T041300Z
DESCRIPTION:Beloved local performer, Whitney Moses, suffered a massive injury in May of 
 this year, and as a result is facing extensive & costly surgeries to 
 re-attach her knee (OH _YUCK_!) The community of Bay Area entertainers has 
 decided that this just plain sucks, so they've rallied together to 
 throw...\n\nTHE WHIT'S-KNEE FUN-RAISERS!\n\nThe first of these amazing 
 events is THURSDAY, JULY 29th, at Hubba Hubba Revue's East Bay stomping 
 grounds, the swank-tastic UPTOWN CLUB!\n\nLook at this INCREDIBLE line-up 
 of Burlesque! Live Music! Belly Dancing! & Just Plain Awesome 
 Fun!\n\nMuscian MARK GROWDEN!\nVagabondage!\nWiggy Darlington!\nMynx 
 d'Meanor!\nCasey Castille!\nMcPuzo & Trotsky!\nGibson Pearl!\nLola 
 Vauntz!\nProfessor Shimmy!\nZip the What-Is-It?\nKingfish & Eddie!\n\nplus! 
 Fabulous Raffle Prizes & Auction items! Special Guests! & much, much 
 more!\n\nAdmission is just $5!\n(additional donations accepted 
 inside!)\n\nDOORS 9PM, SHOW 10PM\n21 & Up w/ID\n\n 
 https://www.indybay.org/newsitems/2010/07/03/18652600.php
SUMMARY:Whit's-Knee Fun-Raiser
LOCATION:The Uptown Club, 1928 Telegraph Avenue, Oakland
URL:https://www.indybay.org/newsitems/2010/07/03/18652600.php
DTSTART:20100723T040000Z
DTEND:20100723T070000Z
END:VEVENT
END:VCALENDAR
