BEGIN:VCALENDAR
VERSION:2.0
X-WR-CALNAME:www.indybay.org
PRODID:-//indybay/ical// v1.0//EN
BEGIN:VEVENT
UID:Indybay-18652218
SEQUENCE:18722382
CREATED:20100630T024300Z
DESCRIPTION:Come and stand with us to protest the ongoing brutal occupation of 
 Palestine and the ongoing illegal blockade against the people of Gaza. 
 Israel murdered 1,434 people in Gaza last year, over 400 were children. 
 Expansion of settlements and theft of land is ongoing in the West Bank. 
 Tristan Anderson was critically injured Friday March 13 last year in the 
 village of Ni’lin, near the central West Bank city of Ramallah, after 
 Israeli forces shot him in the head with a tear-gas canister. \nWe give 15 
 million dollars each day to Israel and Israel buys weapons such as gunship 
 helicopters, F16 bombers, tanks, white phosphorus and Catepillar bulldozers 
 to use against the people of Palestine. \nPeace will never be achieved in 
 the Middle East unless there is justice for the Palestinian people and an 
 end to the occupation. \nCall, fax or email the Consul General at the 
 Israeli Consulate and let them know what you think of Israel's MASSACRE of 
 the people of the Gaza Strip, and the murder of the 8 Turkish men and one 
 U.S. citizen on the Turkish aid ship the Mava Marmara when it was headed to 
 the Gaza Strip to bring aid to the people of Gaza. Wheelchairs were 
 delivered to Gaza from the ship by Israel but they removed the batteries, 
 making them less than useless. \nJerusalem should be a shared capital for 
 all the people of Israel and Palestine with full equality under the law.\n1 
 (415) 844-7501 Fax: (415) 844-7555 \nConsul General David Akov \nconcal.sec 
 [at] sanfrancisco.mfa.gov.il \nConsul General Assistant Neta Shacham 
 \nconcal.sec [at] sanfrancisco.mfa.gov.il \n\n\n 
 https://www.indybay.org/newsitems/2010/06/29/18652218.php
SUMMARY:Berkeley Women in Black
LOCATION:Bancroft and Telegraph
URL:https://www.indybay.org/newsitems/2010/06/29/18652218.php
DTSTART:20100702T190000Z
DTEND:20100702T200000Z
END:VEVENT
END:VCALENDAR
