BEGIN:VCALENDAR
VERSION:2.0
X-WR-CALNAME:www.indybay.org
PRODID:-//indybay/ical// v1.0//EN
BEGIN:VEVENT
UID:Indybay-18651837
SEQUENCE:18721827
CREATED:20100625T133500Z
DESCRIPTION:Privatization From The Richmond Charter Schools to The\nVivendi/Veolia 
 Water Treatment Plant \nWith Charles Smith AFSCME 444, Mary Flanagan UTR, 
 Diane Brown, president elect of United Teachers of Richmond UTR\nRichmond 
 is ground central in the drive to privatize public services from the 
 Richmond sewage treatment system to the growing number of charter schools 
 threatening public education. This educational forum will look at the 
 impact of privatization of public services in Richmond and what the unions 
 are doing to fight it.\nSee 
 also:\nhttp://novatoflow.org/shame.html\nhttp://www.afscme444.com/\nhttp://www.unitedteachersofrichmond.com/\nhttp://www.laborfest.net/2010/2010schedule.htm\n 
 https://www.indybay.org/newsitems/2010/06/25/18651837.php
SUMMARY:Laborfest: Privatization in Richmond Schools & Water Plant
LOCATION:Richmond Main Public Library  - 325 Civic Center Plaza, Richmond\n
URL:https://www.indybay.org/newsitems/2010/06/25/18651837.php
DTSTART:20100730T020000Z
DTEND:20100730T040000Z
END:VEVENT
END:VCALENDAR
