BEGIN:VCALENDAR
VERSION:2.0
X-WR-CALNAME:www.indybay.org
PRODID:-//indybay/ical// v1.0//EN
BEGIN:VEVENT
UID:Indybay-18651836
SEQUENCE:18721826
CREATED:20100625T132900Z
DESCRIPTION:Panel: Bay Area Economic Stimulus Programs:\nAccomplishments and Issues 
 from a Labor Perspective\nIt is 75 years since the W.P.A programs, but only 
 a year and half since enactment of the American Recovery and Reinvestment 
 Act of 2009.  The intent of this act is to preserve and create jobs, invest 
 in infrastructure, promote energy efficiency and to assist the unemployed.  
 How has it worked?  Featuring panelists Paul Bowers, Corps of Engineers, 
 IFPTE Local 49, Cal Broomhead, Energy and Climate Programs Manager, San 
 Francisco Department of the Environment, IFPTE Local 21, and Karl Kramer, 
 San Francisco Living Wage Coalition\nSee 
 also:\nhttp://www.ifpte21.org/\nhttp://www.ifpte.org/\nhttp://www.livingwage-sf.org/\nhttp://www.laborfest.net/2010/2010schedule.htm\n 
 https://www.indybay.org/newsitems/2010/06/25/18651836.php
SUMMARY:Laborfest: Bay Area Economic Stimulus Programs
LOCATION:IFPTE Local 21 Hall - 1182 Market, Room 318, San Francisco, Civic Center 
 BART/Muni Metro \n
URL:https://www.indybay.org/newsitems/2010/06/25/18651836.php
DTSTART:20100730T003000Z
DTEND:20100730T020000Z
END:VEVENT
END:VCALENDAR
